BEGIN:VCALENDAR
VERSION:2.0
PRODID:-//AdriaticPulse - ECPv6.15.20//NONSGML v1.0//EN
CALSCALE:GREGORIAN
METHOD:PUBLISH
X-WR-CALNAME:AdriaticPulse
X-ORIGINAL-URL:https://adriaticpulse.de
X-WR-CALDESC:Events for AdriaticPulse
REFRESH-INTERVAL;VALUE=DURATION:PT1H
X-Robots-Tag:noindex
X-PUBLISHED-TTL:PT1H
BEGIN:VTIMEZONE
TZID:America/New_York
BEGIN:DAYLIGHT
TZOFFSETFROM:-0500
TZOFFSETTO:-0400
TZNAME:EDT
DTSTART:20250309T070000
END:DAYLIGHT
BEGIN:STANDARD
TZOFFSETFROM:-0400
TZOFFSETTO:-0500
TZNAME:EST
DTSTART:20251102T060000
END:STANDARD
BEGIN:DAYLIGHT
TZOFFSETFROM:-0500
TZOFFSETTO:-0400
TZNAME:EDT
DTSTART:20260308T070000
END:DAYLIGHT
BEGIN:STANDARD
TZOFFSETFROM:-0400
TZOFFSETTO:-0500
TZNAME:EST
DTSTART:20261101T060000
END:STANDARD
BEGIN:DAYLIGHT
TZOFFSETFROM:-0500
TZOFFSETTO:-0400
TZNAME:EDT
DTSTART:20270314T070000
END:DAYLIGHT
BEGIN:STANDARD
TZOFFSETFROM:-0400
TZOFFSETTO:-0500
TZNAME:EST
DTSTART:20271107T060000
END:STANDARD
END:VTIMEZONE
BEGIN:VEVENT
DTSTART;TZID=America/New_York:20261116T200000
DTEND;TZID=America/New_York:20261116T230000
DTSTAMP:20260422T053709
CREATED:20250319T221519Z
LAST-MODIFIED:20250319T221629Z
UID:21308-1794859200-1794870000@adriaticpulse.de
SUMMARY:Tokio Hotel
DESCRIPTION:  🎟️ Provjeri više detalja o događaju “Tokio Hotel stiže u München: Veliki koncert u 2026. godini”\, kao i informacije o ulaznicama\, klikom ovdje.
URL:https://adriaticpulse.de/event/tokio-hotel/
LOCATION:Olympiahalle\, Olympiapark München\, Spiridon-Louis-Ring 21\, München\, Bayern\, 80809\, Germany
CATEGORIES:Strani izvođači
ATTACH;FMTTYPE=image/png:https://adriaticpulse.de/wp-content/uploads/2025/03/Tokio-Hotel-u-Minhenu.png
END:VEVENT
END:VCALENDAR